BEGIN:VCALENDAR
VERSION:2.0
PRODID:-//Tukios.com/
BEGIN:VEVENT
UID:1095f7be-40fd-4c6e-8859-98d4ce6be0a6@www.thorntonfuneralhomepa.com
DTSTAMP:20260425T032730Z
DTSTART:20260507T150000Z
DTEND:20260507T160000Z
SUMMARY:Funeral Service
DESCRIPTION:
URL:https://www.thorntonfuneralhomepa.com/obituaries/walter-parker-jr
LOCATION: 9832 Piscataway Road  Clinton MD 20735
GEO:38.7538617;-76.9223872
END:VEVENT
END:VCALENDAR