BEGIN:VCALENDAR
VERSION:2.0
PRODID:-//Tukios.com/
BEGIN:VEVENT
UID:c8cecd69-d402-4cdf-b693-11fed1c112e0@www.thorntonfuneralhomepa.com
DTSTAMP:20260425T032304Z
DTSTART:20260507T173000Z
DTEND:20260507T183000Z
SUMMARY:Interment
DESCRIPTION:
URL:https://www.thorntonfuneralhomepa.com/obituaries/walter-parker-jr
LOCATION: 13472 Poplar Hill Road  Waldorf MD 20601
GEO:38.6171456;-76.8412791
END:VEVENT
END:VCALENDAR