BEGIN:VCALENDAR
VERSION:2.0
PRODID:-//Tukios.com/
BEGIN:VEVENT
UID:3e761f1a-e0b8-49ae-87c6-d7ada6b59aba@www.thorntonfuneralhomepa.com
DTSTAMP:20260425T032719Z
DTSTART:20260507T140000Z
DTEND:20260507T150000Z
SUMMARY:Viewing
DESCRIPTION:
URL:https://www.thorntonfuneralhomepa.com/obituaries/walter-parker-jr
LOCATION: 9832 Piscataway Road  Clinton MD 20735
GEO:38.7538617;-76.9223872
END:VEVENT
END:VCALENDAR