BEGIN:VCALENDAR
VERSION:2.0
PRODID:-//Tukios.com/
BEGIN:VEVENT
UID:c28f9237-d27e-4028-af3a-a6bec130d561@www.thorntonfuneralhomepa.com
DTSTAMP:20260424T004032Z
DTSTART:20260509T150000Z
DTEND:20260509T160000Z
SUMMARY:Celebration of Life
DESCRIPTION:
URL:https://www.thorntonfuneralhomepa.com/obituaries/aisha-edwards
LOCATION:Oakland Baptist Church | Alexandria 3408 King St  Alexandria VA 
	22302
GEO:38.8263666;-77.0871592
END:VEVENT
END:VCALENDAR