BEGIN:VCALENDAR
VERSION:2.0
PRODID:-//Tukios.com/
BEGIN:VEVENT
UID:c13e95dc-00a4-4b83-b3db-c9303709c264@www.thorntonfuneralhomepa.com
DTSTAMP:20260424T003251Z
DTSTART:20260509T140000Z
DTEND:20260509T150000Z
SUMMARY:Visitation
DESCRIPTION:
URL:https://www.thorntonfuneralhomepa.com/obituaries/aisha-edwards
LOCATION:Oakland Baptist Church 3408 King Street  Alexandria VA 22302
GEO:38.8263666;-77.0871592
END:VEVENT
END:VCALENDAR